BEGIN:VCALENDAR
VERSION:2.0
PRODID:-//AIBWS ODV - Associazione Italiana Sindrome di Beckwith -; Wiedeman - ECPv6.15.20//NONSGML v1.0//EN
CALSCALE:GREGORIAN
METHOD:PUBLISH
X-WR-CALNAME:AIBWS ODV - Associazione Italiana Sindrome di Beckwith -; Wiedeman
X-ORIGINAL-URL:https://www.aibws.org
X-WR-CALDESC:Eventi per AIBWS ODV - Associazione Italiana Sindrome di Beckwith -; Wiedeman
REFRESH-INTERVAL;VALUE=DURATION:PT1H
X-Robots-Tag:noindex
X-PUBLISHED-TTL:PT1H
BEGIN:VTIMEZONE
TZID:Europe/Rome
BEGIN:DAYLIGHT
TZOFFSETFROM:+0100
TZOFFSETTO:+0200
TZNAME:CEST
DTSTART:20150329T010000
END:DAYLIGHT
BEGIN:STANDARD
TZOFFSETFROM:+0200
TZOFFSETTO:+0100
TZNAME:CET
DTSTART:20151025T010000
END:STANDARD
BEGIN:DAYLIGHT
TZOFFSETFROM:+0100
TZOFFSETTO:+0200
TZNAME:CEST
DTSTART:20160327T010000
END:DAYLIGHT
BEGIN:STANDARD
TZOFFSETFROM:+0200
TZOFFSETTO:+0100
TZNAME:CET
DTSTART:20161030T010000
END:STANDARD
BEGIN:DAYLIGHT
TZOFFSETFROM:+0100
TZOFFSETTO:+0200
TZNAME:CEST
DTSTART:20170326T010000
END:DAYLIGHT
BEGIN:STANDARD
TZOFFSETFROM:+0200
TZOFFSETTO:+0100
TZNAME:CET
DTSTART:20171029T010000
END:STANDARD
BEGIN:DAYLIGHT
TZOFFSETFROM:+0100
TZOFFSETTO:+0200
TZNAME:CEST
DTSTART:20180325T010000
END:DAYLIGHT
BEGIN:STANDARD
TZOFFSETFROM:+0200
TZOFFSETTO:+0100
TZNAME:CET
DTSTART:20181028T010000
END:STANDARD
END:VTIMEZONE
BEGIN:VEVENT
DTSTART;VALUE=DATE:20171210
DTEND;VALUE=DATE:20171211
DTSTAMP:20260423T131633
CREATED:20171204T121123Z
LAST-MODIFIED:20171204T121123Z
UID:11514-1512864000-1512950399@www.aibws.org
SUMMARY:MILANO 10 DICEMBRE PRANZO DI NATALE TRA FAMIGLIE - VI ASPETTIAMO!
DESCRIPTION:Siamo lieti di comunicare che domenica 10 Dicembre a Milano\, si terrà un pranzo di Natale tra famiglie\, vi aspettiamo numerosi ! \nIl Pranzo sarà presso il Ristorante Pollicino\, in Via Alserio n.9\, Zona Isola – Milano. Orario 12:30 gradita prenotazione ad info@aibws.org. \n 
URL:https://www.aibws.org/evento/milano-10-dicembre-pranzo-di-natale-tra-famiglie-vi-aspettiamo/
END:VEVENT
BEGIN:VEVENT
DTSTART;VALUE=DATE:20170909
DTEND;VALUE=DATE:20170910
DTSTAMP:20260423T131633
CREATED:20170809T142823Z
LAST-MODIFIED:20170809T142823Z
UID:11324-1504915200-1505001599@www.aibws.org
SUMMARY:PIAZZA FAMILY for Children - SERATA DI BENEFICENZA E III TORNEO MEMORIAL PUDDU  2017! VI ASPETTIAMO!!!
DESCRIPTION:La Famiglia Piazza  come ogni anno è lieta di invitarvi alla cena di beneficenza e al torneo Memorial Puddu !!!\n \n Vi aspettiamo alle 14.30 per il III° torneo Memorial Puddu\, alle 18.00 con il battesimo della sella per i vostri bambini ed a seguire il fantastico spiedo di Borgosotto allietato dai Dutùr Kaos…..affrettatevi a prenotare\, i posti sono limitati…. \nIl ricavato della serata sarà in parte devoluto all’Associazione A.F.A.D.O.C. per il progetto di auxoendocrinologia pediatrica di Brescia ed in parte alla nostra associazione AIBWS ! \nAppuntamento da non perdere il 9 settembre presso il Centro Sportivo Parrocchiale di Borgosotto di Montichiari !!!! \n  \nAibws ed i suoi bambini\,  ringraziano tutta la famiglia Piazza che ogni anno si è sempre impegnata ad organizzare serate memorabili di solidarietà!!! \n 
URL:https://www.aibws.org/evento/piazza-family-for-children-serata-di-beneficenza-e-iii-torneo-memorial-puddu-2017-vi-aspettiamo/
ATTACH;FMTTYPE=image/jpeg:https://www.aibws.org/wp-content/uploads/2017/08/3MEMORIALPUDDU9SETT2017.jpg
END:VEVENT
BEGIN:VEVENT
DTSTART;TZID=Europe/Rome:20170902T080000
DTEND;TZID=Europe/Rome:20170903T220000
DTSTAMP:20260423T131633
CREATED:20170803T175139Z
LAST-MODIFIED:20170803T175139Z
UID:11293-1504339200-1504476000@www.aibws.org
SUMMARY:CUIRONE MAIAL FESTIVAL RITORNA!!! VI ASPETTIAMO!
DESCRIPTION:Un grazie speciale da tutte le nostre famiglie Aibws\, alla Compagnia Italiana Dei Mai A Letto che in memoria dell’amico Giorgio Schirosi\, organizza due serate prelibate di enogastronomia a chilometro zero unite ad una sincera e sentita solidarietà!!! \nProgramma:  \n“Per il quarto anno consecutivo la Compagnia Italiana Dei Mai A Letto propone una festa unica nel suo genere….. Per due giorni avrete la possibilità di degustare\, oltre alle mitiche costine\, tanti prodotti tipici Varesini quali : rustisciada\, formaggi\, salumi\, pesche\, dolci\, birre\, vini e amari nel magnifico contesto della piazza di Cuirone… La sera tanta buona musica con due concerti ( uno il sabato ed uno la Domenica ) con due gruppi coinvolgenti.\nCome per la scorsa edizione\, tutti quelli che ne avranno voglia\, potranno fare un giro in elicottero !!!! La Domenica pomeriggio grande spettacolo per bambini con il circo della famiglia Macaggi.\nPer dettagli ed orari vi invitiamo a consultare i volantini dei vari eventi ……. Ci vediamo a Settembre !!! Buona costina a Tutti !!! ”
URL:https://www.aibws.org/evento/cuirone-maial-festival-ritorna-vi-aspettiamo/
ATTACH;FMTTYPE=image/jpeg:https://www.aibws.org/wp-content/uploads/2017/08/CUIRONEMAILFESTIVA2017.jpg
END:VEVENT
BEGIN:VEVENT
DTSTART;VALUE=DATE:20170428
DTEND;VALUE=DATE:20170429
DTSTAMP:20260423T131633
CREATED:20170428T104635Z
LAST-MODIFIED:20170428T104635Z
UID:11199-1493337600-1493423999@www.aibws.org
SUMMARY:Aibws presenta ufficialmente BIWY'S FRIENDS - Cervia 28 Aprile 2017
DESCRIPTION:E’ con immenso orgoglio che Aibws presenta BIWY’S FRIENDS\, un libro nato per aiutare i bambini BWS ma il cui messaggio è chiaro per tutti!\nPermetteteci di ringraziare:\nCrovato Lucia (la scrittrice)\, Magodi Daniela (l’illustratrice)\, Martinelli Lara (coordinatrice artistica) per il grande impegno e l’ottimo risultato.\nIl Dott. Montirosso Rosario (psicologo) e la Dott.sa Di Candia (pediatra) per la parte medica.\nRingraziamo di cuore anche ArenBì Onlus per aver sposato questo progetto raccogliendo i fondi necessari alla stampa.\nChi desidera una\, o più copie\, chiarimenti ecc. può contattarci alla mail: info@aibws.org\nTutte le donazioni ricevute saranno usate esclusivamente per le iniziative promosse da Aibws per raggiungere gli scopi statutari.
URL:https://www.aibws.org/evento/aibws-presenta-ufficialmente-biwys-friends-cervia-28-aprile-2017/
ATTACH;FMTTYPE=image/jpeg:https://www.aibws.org/wp-content/uploads/2017/05/biwyspresentazioneufficiale.jpg
END:VEVENT
BEGIN:VEVENT
DTSTART;VALUE=DATE:20161126
DTEND;VALUE=DATE:20161127
DTSTAMP:20260423T131633
CREATED:20161126T195225Z
LAST-MODIFIED:20161126T195225Z
UID:11449-1480118400-1480204799@www.aibws.org
SUMMARY:FIRENZE- Aibws presente al Forum Associazioni Toscane Malattie Rare
DESCRIPTION:Bellissima esperienza sicuramente da ripetere con gli amici del Forum  Associazioni Toscane delle Malattie Rare.
URL:https://www.aibws.org/evento/firenze-aibws-presente-al-forum-associazioni-toscane-malattie-rare/
END:VEVENT
BEGIN:VEVENT
DTSTART;VALUE=DATE:20160323
DTEND;VALUE=DATE:20160324
DTSTAMP:20260423T131633
CREATED:20160323T185102Z
LAST-MODIFIED:20160323T185102Z
UID:11393-1458691200-1458777599@www.aibws.org
SUMMARY:COMPLEANNO AIBWS! 23 MARZO 2016
DESCRIPTION:
URL:https://www.aibws.org/evento/compleanno-aibws-23-marzo-2016/
END:VEVENT
END:VCALENDAR