BEGIN:VCALENDAR
VERSION:2.0
PRODID:-//AIBWS ODV - Associazione Italiana Sindrome di Beckwith -; Wiedeman - ECPv6.15.20//NONSGML v1.0//EN
CALSCALE:GREGORIAN
METHOD:PUBLISH
X-WR-CALNAME:AIBWS ODV - Associazione Italiana Sindrome di Beckwith -; Wiedeman
X-ORIGINAL-URL:https://www.aibws.org
X-WR-CALDESC:Eventi per AIBWS ODV - Associazione Italiana Sindrome di Beckwith -; Wiedeman
REFRESH-INTERVAL;VALUE=DURATION:PT1H
X-Robots-Tag:noindex
X-PUBLISHED-TTL:PT1H
BEGIN:VTIMEZONE
TZID:Europe/Rome
BEGIN:DAYLIGHT
TZOFFSETFROM:+0100
TZOFFSETTO:+0200
TZNAME:CEST
DTSTART:20150329T010000
END:DAYLIGHT
BEGIN:STANDARD
TZOFFSETFROM:+0200
TZOFFSETTO:+0100
TZNAME:CET
DTSTART:20151025T010000
END:STANDARD
BEGIN:DAYLIGHT
TZOFFSETFROM:+0100
TZOFFSETTO:+0200
TZNAME:CEST
DTSTART:20160327T010000
END:DAYLIGHT
BEGIN:STANDARD
TZOFFSETFROM:+0200
TZOFFSETTO:+0100
TZNAME:CET
DTSTART:20161030T010000
END:STANDARD
BEGIN:DAYLIGHT
TZOFFSETFROM:+0100
TZOFFSETTO:+0200
TZNAME:CEST
DTSTART:20170326T010000
END:DAYLIGHT
BEGIN:STANDARD
TZOFFSETFROM:+0200
TZOFFSETTO:+0100
TZNAME:CET
DTSTART:20171029T010000
END:STANDARD
END:VTIMEZONE
BEGIN:VEVENT
DTSTART;VALUE=DATE:20160406
DTEND;VALUE=DATE:20160407
DTSTAMP:20260423T210739
CREATED:20160406T190031Z
LAST-MODIFIED:20160406T190031Z
UID:11397-1459900800-1459987199@www.aibws.org
SUMMARY:6 APRILE 2016 BWS DAY!
DESCRIPTION:In questa data si ricorda in tutto il Mondo la Sindrome di Beckwith-Wiedemann per sensibilizzare l’opinione pubblica\, ognuno può indossare qualcosa di giallo ! Bellissimo gesto!
URL:https://www.aibws.org/evento/6-aprile-2016-bws-day/
ATTACH;FMTTYPE=image/jpeg:https://www.aibws.org/wp-content/uploads/2017/10/6aprile2016GIORNATAAIBWS.jpg
END:VEVENT
END:VCALENDAR