BEGIN:VCALENDAR
VERSION:2.0
PRODID:-//AIBWS ODV - Associazione Italiana Sindrome di Beckwith -; Wiedeman - ECPv6.15.20//NONSGML v1.0//EN
CALSCALE:GREGORIAN
METHOD:PUBLISH
X-ORIGINAL-URL:https://www.aibws.org
X-WR-CALDESC:Eventi per AIBWS ODV - Associazione Italiana Sindrome di Beckwith -; Wiedeman
REFRESH-INTERVAL;VALUE=DURATION:PT1H
X-Robots-Tag:noindex
X-PUBLISHED-TTL:PT1H
BEGIN:VTIMEZONE
TZID:Europe/Rome
BEGIN:DAYLIGHT
TZOFFSETFROM:+0100
TZOFFSETTO:+0200
TZNAME:CEST
DTSTART:20150329T010000
END:DAYLIGHT
BEGIN:STANDARD
TZOFFSETFROM:+0200
TZOFFSETTO:+0100
TZNAME:CET
DTSTART:20151025T010000
END:STANDARD
BEGIN:DAYLIGHT
TZOFFSETFROM:+0100
TZOFFSETTO:+0200
TZNAME:CEST
DTSTART:20160327T010000
END:DAYLIGHT
BEGIN:STANDARD
TZOFFSETFROM:+0200
TZOFFSETTO:+0100
TZNAME:CET
DTSTART:20161030T010000
END:STANDARD
BEGIN:DAYLIGHT
TZOFFSETFROM:+0100
TZOFFSETTO:+0200
TZNAME:CEST
DTSTART:20170326T010000
END:DAYLIGHT
BEGIN:STANDARD
TZOFFSETFROM:+0200
TZOFFSETTO:+0100
TZNAME:CET
DTSTART:20171029T010000
END:STANDARD
END:VTIMEZONE
BEGIN:VEVENT
DTSTART;VALUE=DATE:20160204
DTEND;VALUE=DATE:20160205
DTSTAMP:20260423T205121
CREATED:20160204T183800Z
LAST-MODIFIED:20160204T183800Z
UID:11380-1454544000-1454630399@www.aibws.org
SUMMARY:OPEN DAY - WORLD CANCER DAY 4 febbraio 2016
DESCRIPTION:SERVIZIO DI PSICO-ONCOLOGIA GRATUITO PER LA GIORNATA MONDIALE CONTRO IL CANCRO \nGiovedì 4 febbraio 2016 in tutto il pianeta si celebra il World Cancer Day\, la Giornata Mondiale contro il Cancro; a Montichiari\, in provincia di Brescia\, è prevista un’iniziativa destinata a chi sta combattendo contro il tumore: l’Open Day Psico-oncologia. \nLa manifestazione\, patrocinata dalle maggiori associazioni che operano nel settore\, tra cui la Lega Italiana Lotta Tumori – Sezione di Brescia\, la Società Italiana di Chirurgia Oncologica\, Arenbì Onlus e AIBWS\, prevede un’intera giornata di servizio gratuito di psico-oncologia\, disciplina della medicina che offre a chi sta affrontando una battaglia contro il cancro e ai suoi familiari\, gli strumenti e le risorse per affrontare al meglio la malattia dal punto di vista emotivo in relazione al percorso clinico.\nL’iniziativa è curata dal Dott. Alberto Tagliapietra\, medico chirurgo con diploma d’alta formazione in psico-oncologia\, e si svolge nello studio medico di Via Santo Casasopra 2; per poter usufruire del servizio gratuito\, è necessario prenotare un appuntamento al numero 3491170055.
URL:https://www.aibws.org/evento/open-day-world-cancer-day-4-febbraio-2016/
ATTACH;FMTTYPE=image/jpeg:https://www.aibws.org/wp-content/uploads/2017/10/WORLDCANCERDAY4FEBB2016.jpg
END:VEVENT
END:VCALENDAR