BEGIN:VCALENDAR
VERSION:2.0
PRODID:-//AIBWS ODV - Associazione Italiana Sindrome di Beckwith -; Wiedeman - ECPv6.15.20//NONSGML v1.0//EN
CALSCALE:GREGORIAN
METHOD:PUBLISH
X-ORIGINAL-URL:https://www.aibws.org
X-WR-CALDESC:Eventi per AIBWS ODV - Associazione Italiana Sindrome di Beckwith -; Wiedeman
REFRESH-INTERVAL;VALUE=DURATION:PT1H
X-Robots-Tag:noindex
X-PUBLISHED-TTL:PT1H
BEGIN:VTIMEZONE
TZID:Europe/Rome
BEGIN:DAYLIGHT
TZOFFSETFROM:+0100
TZOFFSETTO:+0200
TZNAME:CEST
DTSTART:20150329T010000
END:DAYLIGHT
BEGIN:STANDARD
TZOFFSETFROM:+0200
TZOFFSETTO:+0100
TZNAME:CET
DTSTART:20151025T010000
END:STANDARD
BEGIN:DAYLIGHT
TZOFFSETFROM:+0100
TZOFFSETTO:+0200
TZNAME:CEST
DTSTART:20160327T010000
END:DAYLIGHT
BEGIN:STANDARD
TZOFFSETFROM:+0200
TZOFFSETTO:+0100
TZNAME:CET
DTSTART:20161030T010000
END:STANDARD
BEGIN:DAYLIGHT
TZOFFSETFROM:+0100
TZOFFSETTO:+0200
TZNAME:CEST
DTSTART:20170326T010000
END:DAYLIGHT
BEGIN:STANDARD
TZOFFSETFROM:+0200
TZOFFSETTO:+0100
TZNAME:CET
DTSTART:20171029T010000
END:STANDARD
END:VTIMEZONE
BEGIN:VEVENT
DTSTART;VALUE=DATE:20160529
DTEND;VALUE=DATE:20160530
DTSTAMP:20260424T114045
CREATED:20160529T191902Z
LAST-MODIFIED:20160529T191902Z
UID:11417-1464480000-1464566399@www.aibws.org
SUMMARY:III MOTOGIRO GRAZIE AL CIVICO 166!!
DESCRIPTION:Si rinnova anche per questo anno l’Appuntamento imperdibile organizzato dai nostri Amici del Gruppo CIVICO 166 di Montichiari (BS) ! \nVi ringraziare di cuore ! Scaldate i motori ed affrettatevi a raggiungerci! \n 
URL:https://www.aibws.org/evento/iii-motogiro-grazie-al-civico-166/
ATTACH;FMTTYPE=image/jpeg:https://www.aibws.org/wp-content/uploads/2017/10/IIIMOTOGIRO29MAGGIO2016.jpg
END:VEVENT
END:VCALENDAR