BEGIN:VCALENDAR
VERSION:2.0
PRODID:-//AIBWS ODV - Associazione Italiana Sindrome di Beckwith -; Wiedeman - ECPv6.15.20//NONSGML v1.0//EN
CALSCALE:GREGORIAN
METHOD:PUBLISH
X-ORIGINAL-URL:https://www.aibws.org
X-WR-CALDESC:Eventi per AIBWS ODV - Associazione Italiana Sindrome di Beckwith -; Wiedeman
REFRESH-INTERVAL;VALUE=DURATION:PT1H
X-Robots-Tag:noindex
X-PUBLISHED-TTL:PT1H
BEGIN:VTIMEZONE
TZID:Europe/Rome
BEGIN:DAYLIGHT
TZOFFSETFROM:+0100
TZOFFSETTO:+0200
TZNAME:CEST
DTSTART:20130331T010000
END:DAYLIGHT
BEGIN:STANDARD
TZOFFSETFROM:+0200
TZOFFSETTO:+0100
TZNAME:CET
DTSTART:20131027T010000
END:STANDARD
BEGIN:DAYLIGHT
TZOFFSETFROM:+0100
TZOFFSETTO:+0200
TZNAME:CEST
DTSTART:20140330T010000
END:DAYLIGHT
BEGIN:STANDARD
TZOFFSETFROM:+0200
TZOFFSETTO:+0100
TZNAME:CET
DTSTART:20141026T010000
END:STANDARD
BEGIN:DAYLIGHT
TZOFFSETFROM:+0100
TZOFFSETTO:+0200
TZNAME:CEST
DTSTART:20150329T010000
END:DAYLIGHT
BEGIN:STANDARD
TZOFFSETFROM:+0200
TZOFFSETTO:+0100
TZNAME:CET
DTSTART:20151025T010000
END:STANDARD
END:VTIMEZONE
BEGIN:VEVENT
DTSTART;VALUE=DATE:20140920
DTEND;VALUE=DATE:20140921
DTSTAMP:20260420T094215
CREATED:20140920T144228Z
LAST-MODIFIED:20140920T144228Z
UID:11218-1411171200-1411257599@www.aibws.org
SUMMARY:Mercante per un giorno - 2014
DESCRIPTION:Elena e Monica vi aspettano il 20 SETTEMBRE a………. \nGiornata particolare e veramente interessante. Potrete trovare bancarelle con curiosità ed oggetti particolari. Aibws sarà presente con uno stand informativo e di shopping solidale.
URL:https://www.aibws.org/evento/mercante-per-un-giorno-2014/
ATTACH;FMTTYPE=image/jpeg:https://www.aibws.org/wp-content/uploads/2017/05/MERCANTEPERUNGIORNO.jpg
END:VEVENT
END:VCALENDAR